View In:
ArcGIS JavaScript
ArcGIS Online Map Viewer
ArcGIS Earth
ArcMap
ArcGIS Pro
View Footprint In:
ArcGIS Online Map Viewer
Service Description: 12-inch resolution, color orthophotography for the Waupaca County geographic area. Also included is 6-inch resolution color orthophotography for the City of Waupaca, City of New London and the Chain O' Lakes geographic areas. All imagery was collected during the spring of 2010. The 6-inch color imagery does not display until a scale of 1:24,000.
Map Name: Layers
Legend
All Layers and Tables
Layers:
Description:
Copyright Text: The data is provided for reference only. The user bears all responsibility for how it is used. Waupaca County cannot be held liable for any inaccuracies contained herein.
Spatial Reference:
102100
(3857)
Single Fused Map Cache: true
Tile Info:
- Height: 256
- Width: 256
- DPI: 96
-
Levels of Detail: 20
-
Level ID: 0
[ Start Tile, End Tile ]
- Resolution: 156543.03392800014
- Scale: 5.91657527591555E8
-
Level ID: 1
[ Start Tile, End Tile ]
- Resolution: 78271.51696399994
- Scale: 2.95828763795777E8
-
Level ID: 2
[ Start Tile, End Tile ]
- Resolution: 39135.75848200009
- Scale: 1.47914381897889E8
-
Level ID: 3
[ Start Tile, End Tile ]
- Resolution: 19567.87924099992
- Scale: 7.3957190948944E7
-
Level ID: 4
[ Start Tile, End Tile ]
- Resolution: 9783.93962049996
- Scale: 3.6978595474472E7
-
Level ID: 5
[ Start Tile, End Tile ]
- Resolution: 4891.96981024998
- Scale: 1.8489297737236E7
- Format: MIXED
- Compression Quality: 75.0
- Origin: X: -2.0037508342787E7
Y: 2.0037508342787E7
- Spatial Reference: 102100
(3857)
Initial Extent:
XMin: -1.0021792403421927E7
YMin: 5497380.3380851615
XMax: -9774136.431778077
YMax: 5670128.022009576
Spatial Reference: 102100
(3857)
Full Extent:
XMin: -9933885.9002
YMin: 5501651.670299999
XMax: -9862042.935
YMax: 5572909.263400003
Spatial Reference: 102100
(3857)
Units: esriMeters
Supported Image Format Types: PNG32,PNG24,PNG,JPG,DIB,TIFF,EMF,PS,PDF,GIF,SVG,SVGZ,BMP
Document Info:
Title: ortho2005test
Author: ian.grasshoff
Comments: 12-inch resolution, color orthophotography for the Waupaca County geographic area. Also included is 6-inch resolution color orthophotography for the City of Waupaca, City of New London and the Chain O' Lakes geographic areas. All imagery was collected during the spring of 2010. The 6-inch color imagery does not display until a scale of 1:24,000.
Subject: Waupaca County aerial imagery collected in the spring of 2010. Service also includes label overlays for reference.
Category:
Keywords: 2010,Aerial Imagery,orthophotography,Waupaca County,WI,Wisconsin
AntialiasingMode: None
TextAntialiasingMode: Force
Supports Dynamic Layers: false
MaxRecordCount: 1000
MaxImageHeight: 4096
MaxImageWidth: 4096
Supported Query Formats: JSON, geoJSON
Min Scale: 577790.554289
Max Scale: 1128.497176
Supports Datum Transformation: true
Child Resources:
Info
Supported Operations:
Export Map
Identify
QueryDomains
QueryLegends
Find
Return Updates