{
 "currentVersion": 10.91,
 "serviceDescription": "",
 "mapName": "Layers",
 "description": "",
 "copyrightText": "",
 "supportsDynamicLayers": false,
 "layers": [
  {
   "id": 0,
   "name": "Extent",
   "parentLayerId": -1,
   "defaultVisibility": false,
   "subLayerIds": null,
   "minScale": 0,
   "maxScale": 0,
   "type": "Feature Layer",
   "geometryType": "esriGeometryPolygon"
  }
 ],
 "tables": [],
 "spatialReference": {
  "wkid": 102100,
  "latestWkid": 3857
 },
 "singleFusedMapCache": true,
 "tileInfo": {
  "rows": 256,
  "cols": 256,
  "dpi": 96,
  "format": "JPEG",
  "compressionQuality": 75,
  "origin": {
   "x": -2.0037508342787E7,
   "y": 2.0037508342787E7
  },
  "spatialReference": {
   "wkid": 102100,
   "latestWkid": 3857
  },
  "lods": [
   {
    "level": 0,
    "resolution": 611.4962262813797,
    "scale": 2311162.217155
   },
   {
    "level": 1,
    "resolution": 305.74811314055756,
    "scale": 1155581.108577
   },
   {
    "level": 2,
    "resolution": 152.87405657041106,
    "scale": 577790.554289
   },
   {
    "level": 3,
    "resolution": 76.43702828507324,
    "scale": 288895.277144
   },
   {
    "level": 4,
    "resolution": 38.21851414253662,
    "scale": 144447.638572
   },
   {
    "level": 5,
    "resolution": 19.10925707126831,
    "scale": 72223.819286
   },
   {
    "level": 6,
    "resolution": 9.554628535634155,
    "scale": 36111.909643
   },
   {
    "level": 7,
    "resolution": 4.77731426794937,
    "scale": 18055.954822
   },
   {
    "level": 8,
    "resolution": 2.388657133974685,
    "scale": 9027.977411
   },
   {
    "level": 9,
    "resolution": 1.1943285668550503,
    "scale": 4513.988705
   },
   {
    "level": 10,
    "resolution": 0.5971642835598172,
    "scale": 2256.994353
   },
   {
    "level": 11,
    "resolution": 0.29858214164761665,
    "scale": 1128.497176
   },
   {
    "level": 12,
    "resolution": 0.14929107082380833,
    "scale": 564.248588
   }
  ]
 },
 "initialExtent": {
  "xmin": -9928559.726136934,
  "ymin": 5528641.928044275,
  "xmax": -9867557.06471191,
  "ymax": 5564053.229066606,
  "spatialReference": {
   "cs": "pcs",
   "wkid": 102100
  }
 },
 "fullExtent": {
  "xmin": -9933885.9002,
  "ymin": 5501651.670299999,
  "xmax": -9862042.935,
  "ymax": 5572909.263400003,
  "spatialReference": {
   "cs": "pcs",
   "wkid": 102100
  }
 },
 "minScale": 577790.554289,
 "maxScale": 564.248588,
 "minLOD": 0,
 "maxLOD": 12,
 "units": "esriMeters",
 "supportedImageFormatTypes": "PNG32,PNG24,PNG,JPG,DIB,TIFF,EMF,PS,PDF,GIF,SVG,SVGZ,BMP",
 "documentInfo": {
  "Title": "",
  "Author": "",
  "Comments": "",
  "Subject": "",
  "Category": "",
  "AntialiasingMode": "None",
  "TextAntialiasingMode": "Force",
  "Keywords": ""
 },
 "capabilities": "Map,Query,Data",
 "supportedQueryFormats": "JSON, geoJSON",
 "exportTilesAllowed": true,
 "maxExportTilesCount": 100000,
 "referenceScale": 0,
 "supportsDatumTransformation": true,
 "maxRecordCount": 1000,
 "maxImageHeight": 4096,
 "maxImageWidth": 4096,
 "supportedExtensions": "WMSServer"
}
